BEGIN:VCALENDAR
VERSION:2.0
PRODID:-//www.lifestepsfoundation.org//NONSGML kigkonsult.se iCalcreator 2.
 30.10//
CALSCALE:GREGORIAN
METHOD:PUBLISH
UID:9cbb0e69-0727-423e-b70e-2a90421bad40
X-WR-CALDESC:Love Eating at Panera Bread?\n\nSupport Life Steps Foundation 
 Children and Family Services while you eat at Panera Bread located at 1525
  40th Street\, Emeryville\, CA on Wednesday\, April 15\, 2020 from 4:00pm 
 to 8:00pm.\n\n
X-WR-RELCALID:ff4df7599bf32349e5e2f0a28bf587e9
X-WR-TIMEZONE:America/Los_Angeles
BEGIN:VTIMEZONE
TZID:America/Los_Angeles
BEGIN:STANDARD
TZNAME:PST
DTSTART:20191103T020000
TZOFFSETFROM:-0700
TZOFFSETTO:-0800
RDATE:20201101T020000
END:STANDARD
BEGIN:DAYLIGHT
TZNAME:PDT
DTSTART:20200308T020000
TZOFFSETFROM:-0800
TZOFFSETTO:-0700
RDATE:20210314T020000
END:DAYLIGHT
END:VTIMEZONE
BEGIN:VEVENT
UID:6ae2f0b6-2f50-41b8-a5d3-d7fc3a328892
DTSTAMP:20260421T084640Z
DESCRIPTION:Love Eating at Panera Bread?\n\nSupport Life Steps Foundation C
 hildren and Family Services while you eat at Panera Bread located at 1525 
 40th Street\, Emeryville\, CA on Wednesday\, April 15\, 2020 from 4:00pm t
 o 8:00pm.\n\n
DTSTART;TZID=America/Los_Angeles:20200415T160000
DTEND;TZID=America/Los_Angeles:20200415T200000
LOCATION:Panera Bread - 1525 40th Street\, Emeryville\, CA 94608
SUMMARY:Panera Bread Fundraiser in Emeryville
END:VEVENT
END:VCALENDAR
